BEGIN:VCALENDAR
VERSION:2.0
PRODID:-//The Wight Brainy Bunch - ECPv6.15.20//NONSGML v1.0//EN
CALSCALE:GREGORIAN
METHOD:PUBLISH
X-ORIGINAL-URL:https://www.thewightbrainybunch.org.uk
X-WR-CALDESC:Events for The Wight Brainy Bunch
REFRESH-INTERVAL;VALUE=DURATION:PT1H
X-Robots-Tag:noindex
X-PUBLISHED-TTL:PT1H
BEGIN:VTIMEZONE
TZID:Europe/London
BEGIN:DAYLIGHT
TZOFFSETFROM:+0000
TZOFFSETTO:+0100
TZNAME:BST
DTSTART:20240331T010000
END:DAYLIGHT
BEGIN:STANDARD
TZOFFSETFROM:+0100
TZOFFSETTO:+0000
TZNAME:GMT
DTSTART:20241027T010000
END:STANDARD
BEGIN:DAYLIGHT
TZOFFSETFROM:+0000
TZOFFSETTO:+0100
TZNAME:BST
DTSTART:20250330T010000
END:DAYLIGHT
BEGIN:STANDARD
TZOFFSETFROM:+0100
TZOFFSETTO:+0000
TZNAME:GMT
DTSTART:20251026T010000
END:STANDARD
BEGIN:DAYLIGHT
TZOFFSETFROM:+0000
TZOFFSETTO:+0100
TZNAME:BST
DTSTART:20260329T010000
END:DAYLIGHT
BEGIN:STANDARD
TZOFFSETFROM:+0100
TZOFFSETTO:+0000
TZNAME:GMT
DTSTART:20261025T010000
END:STANDARD
END:VTIMEZONE
BEGIN:VEVENT
DTSTART;TZID=Europe/London:20250412T100000
DTEND;TZID=Europe/London:20250412T160000
DTSTAMP:20260419T175131
CREATED:20250314T001316Z
LAST-MODIFIED:20250314T001316Z
UID:8296215-1744452000-1744473600@www.thewightbrainybunch.org.uk
SUMMARY:Charity Car Wash with Ryde Fire
DESCRIPTION:Join us on Saturday 12th April for a mega charity car wash with Ryde Fire Station at Tesco Extra in Ryde\, in aid of both the Wight Brainy Bunch and the Firefighters Charity.\n\nPop along between 10:00am – 4:00pm when Ryde’s finest Fire Fighters will ensure your cars are sparkling clean for a donation to charity.\n\nHuge thanks to Tesco Ryde for accommodating us \n\nThe Wight Brainy Bunch provide emotional support and financial assistance to Isle of Wight families affected by brain tumours.\n\nThe Fire Fighters Charity offers specialist lifelong health & wellbeing support for the UK fire & rescue community\, empowering individuals and families to achieve mental\, physical and social wellbeing throughout their lives. This includes serving and retired firefighters\, control and support teams
URL:https://www.thewightbrainybunch.org.uk/event-wight-brainy-bunch/charity-car-wash-with-ryde-fire/
LOCATION:Tesco Extra\, Brading Road\, Ryde
END:VEVENT
END:VCALENDAR