BEGIN:VCALENDAR
VERSION:2.0
PRODID:-//The Wight Brainy Bunch - ECPv6.15.20//NONSGML v1.0//EN
CALSCALE:GREGORIAN
METHOD:PUBLISH
X-WR-CALNAME:The Wight Brainy Bunch
X-ORIGINAL-URL:https://www.thewightbrainybunch.org.uk
X-WR-CALDESC:Events for The Wight Brainy Bunch
REFRESH-INTERVAL;VALUE=DURATION:PT1H
X-Robots-Tag:noindex
X-PUBLISHED-TTL:PT1H
BEGIN:VTIMEZONE
TZID:Europe/London
BEGIN:DAYLIGHT
TZOFFSETFROM:+0000
TZOFFSETTO:+0100
TZNAME:BST
DTSTART:20170326T010000
END:DAYLIGHT
BEGIN:STANDARD
TZOFFSETFROM:+0100
TZOFFSETTO:+0000
TZNAME:GMT
DTSTART:20171029T010000
END:STANDARD
BEGIN:DAYLIGHT
TZOFFSETFROM:+0000
TZOFFSETTO:+0100
TZNAME:BST
DTSTART:20180325T010000
END:DAYLIGHT
BEGIN:STANDARD
TZOFFSETFROM:+0100
TZOFFSETTO:+0000
TZNAME:GMT
DTSTART:20181028T010000
END:STANDARD
BEGIN:DAYLIGHT
TZOFFSETFROM:+0000
TZOFFSETTO:+0100
TZNAME:BST
DTSTART:20190331T010000
END:DAYLIGHT
BEGIN:STANDARD
TZOFFSETFROM:+0100
TZOFFSETTO:+0000
TZNAME:GMT
DTSTART:20191027T010000
END:STANDARD
END:VTIMEZONE
BEGIN:VEVENT
DTSTART;VALUE=DATE:20180422
DTEND;VALUE=DATE:20180423
DTSTAMP:20260420T043257
CREATED:20180418T090822Z
LAST-MODIFIED:20180418T214929Z
UID:1634-1524355200-1524441599@www.thewightbrainybunch.org.uk
SUMMARY:Katy's Half Marathon
DESCRIPTION:This Sunday Katy will take on the ABP Southampton Half Marathon in aid of The Wight Brainy Bunch\, having become aware of the support given to an ex-student of hers from the Isle of Wight College.  \nStarting and finishing in the heart of Southampton city centre\, the 13.1 mile route is a stunning mix of coast\, city and parks\, passing the iconic landmarks of Bargate\, QE2 Anchor and St Mary’s Stadium and providing stunning views towards the Isle of Wight. \nPlease visit Katy’s online fundraising page HERE to make a donation  \nWe would like to send our sincere thanks to Katy for supporting The Wight Brainy Bunch and wish her the best of luck for Sunday.  \n 
URL:https://www.thewightbrainybunch.org.uk/event-wight-brainy-bunch/katys-half-marathon/
END:VEVENT
END:VCALENDAR