BEGIN:VCALENDAR
VERSION:2.0
PRODID:-//The Wight Brainy Bunch - ECPv6.15.20//NONSGML v1.0//EN
CALSCALE:GREGORIAN
METHOD:PUBLISH
X-WR-CALNAME:The Wight Brainy Bunch
X-ORIGINAL-URL:https://www.thewightbrainybunch.org.uk
X-WR-CALDESC:Events for The Wight Brainy Bunch
REFRESH-INTERVAL;VALUE=DURATION:PT1H
X-Robots-Tag:noindex
X-PUBLISHED-TTL:PT1H
BEGIN:VTIMEZONE
TZID:Europe/London
BEGIN:DAYLIGHT
TZOFFSETFROM:+0000
TZOFFSETTO:+0100
TZNAME:BST
DTSTART:20250330T010000
END:DAYLIGHT
BEGIN:STANDARD
TZOFFSETFROM:+0100
TZOFFSETTO:+0000
TZNAME:GMT
DTSTART:20251026T010000
END:STANDARD
BEGIN:DAYLIGHT
TZOFFSETFROM:+0000
TZOFFSETTO:+0100
TZNAME:BST
DTSTART:20260329T010000
END:DAYLIGHT
BEGIN:STANDARD
TZOFFSETFROM:+0100
TZOFFSETTO:+0000
TZNAME:GMT
DTSTART:20261025T010000
END:STANDARD
BEGIN:DAYLIGHT
TZOFFSETFROM:+0000
TZOFFSETTO:+0100
TZNAME:BST
DTSTART:20270328T010000
END:DAYLIGHT
BEGIN:STANDARD
TZOFFSETFROM:+0100
TZOFFSETTO:+0000
TZNAME:GMT
DTSTART:20271031T010000
END:STANDARD
END:VTIMEZONE
BEGIN:VEVENT
DTSTART;TZID=Europe/London:20260603T190000
DTEND;TZID=Europe/London:20260603T220000
DTSTAMP:20260424T005412
CREATED:20260417T164053Z
LAST-MODIFIED:20260417T215639Z
UID:10008516-1780513200-1780524000@www.thewightbrainybunch.org.uk
SUMMARY:Godshill Community Charity Quiz Night
DESCRIPTION:Join us at the Griffin Godshill on Wednesday 3rd June for the Godshill Community Charity Quiz Night in aid of The Wight Brainy Bunch. \n£2.00 per person / Max 8 per team \nQuiz starts 7:00pm \nCash only \nCharity Raffle \nFood available until 8:00pm \nTo book your teams call: 01983 211115 \n  \n 
URL:https://www.thewightbrainybunch.org.uk/event-wight-brainy-bunch/godshill-community-quiz/
END:VEVENT
END:VCALENDAR