BEGIN:VCALENDAR
VERSION:2.0
PRODID:-//The Wight Brainy Bunch - ECPv6.15.20//NONSGML v1.0//EN
CALSCALE:GREGORIAN
METHOD:PUBLISH
X-ORIGINAL-URL:https://www.thewightbrainybunch.org.uk
X-WR-CALDESC:Events for The Wight Brainy Bunch
REFRESH-INTERVAL;VALUE=DURATION:PT1H
X-Robots-Tag:noindex
X-PUBLISHED-TTL:PT1H
BEGIN:VTIMEZONE
TZID:Europe/London
BEGIN:DAYLIGHT
TZOFFSETFROM:+0000
TZOFFSETTO:+0100
TZNAME:BST
DTSTART:20250330T010000
END:DAYLIGHT
BEGIN:STANDARD
TZOFFSETFROM:+0100
TZOFFSETTO:+0000
TZNAME:GMT
DTSTART:20251026T010000
END:STANDARD
BEGIN:DAYLIGHT
TZOFFSETFROM:+0000
TZOFFSETTO:+0100
TZNAME:BST
DTSTART:20260329T010000
END:DAYLIGHT
BEGIN:STANDARD
TZOFFSETFROM:+0100
TZOFFSETTO:+0000
TZNAME:GMT
DTSTART:20261025T010000
END:STANDARD
BEGIN:DAYLIGHT
TZOFFSETFROM:+0000
TZOFFSETTO:+0100
TZNAME:BST
DTSTART:20270328T010000
END:DAYLIGHT
BEGIN:STANDARD
TZOFFSETFROM:+0100
TZOFFSETTO:+0000
TZNAME:GMT
DTSTART:20271031T010000
END:STANDARD
END:VTIMEZONE
BEGIN:VEVENT
DTSTART;VALUE=DATE:20260808
DTEND;VALUE=DATE:20260810
DTSTAMP:20260424T034949
CREATED:20260114T004026Z
LAST-MODIFIED:20260114T004858Z
UID:9858637-1786147200-1786319999@www.thewightbrainybunch.org.uk
SUMMARY:2026 Wolfheim Viking Festival
DESCRIPTION:We are delighted to be returning as the benefiting charity for the forthcoming Wolfheim Viking Festival at Arreton Barns on the 8th & 9th August 10:00am – 16:00pm \nPlease pop along for a day of reenactment viking combat\, have a go archery\,  interactive displays and more! \nHosted by Wolfguard Historic Reenactment Society
URL:https://www.thewightbrainybunch.org.uk/event-wight-brainy-bunch/wolfheim-viking-festival-2/
END:VEVENT
BEGIN:VEVENT
DTSTART;VALUE=DATE:20260819
DTEND;VALUE=DATE:20260820
DTSTAMP:20260424T034949
CREATED:20260114T002657Z
LAST-MODIFIED:20260114T003551Z
UID:9857511-1787097600-1787183999@www.thewightbrainybunch.org.uk
SUMMARY:2026 WBB Skydive
DESCRIPTION:We will once again be taking to the skies on Wednesday 19th August for our annual Charity Skydive with Skydive Sandown. \nThere is no better way to see the Isle of Wight\, than jumping out of a plane at 10\,000ft from Sandown Airport .. so if this has been on your bucket list… now is the time to get onboard! \nThe total cost of one of our places is £350. A deposit of £50 will be required to secure your place\, with the remaining balance to be paid 4 weeks prior to the jump. Obviously any sponsorship over and above this is an added bonus\, for which we are very grateful. \nPlease email: info@thewightbrainybunch.org.uk for more information or to reserve your place. \nThe Wight Brainy Bunch provide emotional support and financial assistance to Isle of Wight families whose lives have been affected by the devastating effects of brain tumours.
URL:https://www.thewightbrainybunch.org.uk/event-wight-brainy-bunch/2026-wbb-skydive/
END:VEVENT
BEGIN:VEVENT
DTSTART;TZID=Europe/London:20260822T100000
DTEND;TZID=Europe/London:20260822T170000
DTSTAMP:20260424T034949
CREATED:20260114T012932Z
LAST-MODIFIED:20260420T235801Z
UID:9862079-1787392800-1787418000@www.thewightbrainybunch.org.uk
SUMMARY:Wight Brainy Bunch Summer Fair
DESCRIPTION:  \n \nWe’re excited to be hosting our first Summer Fair at Arreton Barns on Saturday 22nd August.  \n Join us for a Summer Fair to Remember! \n\nBring your family and friends along for a fantastic day packed with plenty of fun for all ages at our Summer Fun Day and enjoy all that Arreton Barns has to offer \n\n Live music & entertainment Local craft stalls Inflatables\, vintage rides & kids activities Free entry Plenty of parking A chance to support an amazing local cause\n\nWith arena displays from Jaydene Lee Arts\, Agility Dogs\, Birds of Prey and Wild Woods… and live music from Side Tracked\, Spammy Oatis\, Corinne Atkins\, Mumma Mia and Lazerhearts.. It’s shaping up to be a great day!\n\nThe Wight Brainy Bunch provide emotional support and financial assistance to Isle of Wight families affected by brain tumours.\n 
URL:https://www.thewightbrainybunch.org.uk/event-wight-brainy-bunch/wight-brainy-bunch-fun-day/
END:VEVENT
END:VCALENDAR